BEGIN:VCALENDAR
VERSION:2.0
PRODID:-//hacksw/handcal//NONSGML v1.0//EN
BEGIN:VEVENT
DTSTAMP:20251218T181500Z
DTSTART:20251218T181500Z
DTEND:20251218T181500Z
LOCATION:Wirtshaus „Zur Krone“, Kronenweg 1 , Niederkassel-Ranzel, 53859 , Deutschland
SUMMARY:CDU - OV - Lülsdorf/Ranzel - Mitgliederversammlung m. Vorstandswahlen
END:VEVENT
END:VCALENDAR
