BEGIN:VCALENDAR
VERSION:2.0
PRODID:-//hacksw/handcal//NONSGML v1.0//EN
BEGIN:VEVENT
DTSTAMP:20251211T180000Z
DTSTART:20251211T180000Z
DTEND:20251211T180000Z
LOCATION:Dattenfelder Hof, Hauptstraße 110, Windeck, 51570 , Deutschland
SUMMARY:CDU - GV - Windeck - Jahresabschlussfeier 
END:VEVENT
END:VCALENDAR
