BEGIN:VCALENDAR
VERSION:2.0
PRODID:-//hacksw/handcal//NONSGML v1.0//EN
BEGIN:VEVENT
DTSTAMP:20250519T163000Z
DTSTART:20250519T163000Z
DTEND:20250519T163000Z
LOCATION:Hotel Schützenhof, Deutschland
SUMMARY:CDU - GV - Eitorf - Aufstellungsversammlung f. die Kommunalwahlen 
END:VEVENT
END:VCALENDAR
